BEGIN:VCALENDAR
VERSION:2.0
PRODID:-//JGV - Rocky Mountain - ECPv6.15.10//NONSGML v1.0//EN
CALSCALE:GREGORIAN
METHOD:PUBLISH
X-WR-CALNAME:JGV - Rocky Mountain
X-ORIGINAL-URL:http://jgv-rockymountain.com/wp
X-WR-CALDESC:Events for JGV - Rocky Mountain
REFRESH-INTERVAL;VALUE=DURATION:PT1H
X-Robots-Tag:noindex
X-PUBLISHED-TTL:PT1H
BEGIN:VTIMEZONE
TZID:America/Chicago
BEGIN:DAYLIGHT
TZOFFSETFROM:-0600
TZOFFSETTO:-0500
TZNAME:CDT
DTSTART:20150308T080000
END:DAYLIGHT
BEGIN:STANDARD
TZOFFSETFROM:-0500
TZOFFSETTO:-0600
TZNAME:CST
DTSTART:20151101T070000
END:STANDARD
BEGIN:DAYLIGHT
TZOFFSETFROM:-0600
TZOFFSETTO:-0500
TZNAME:CDT
DTSTART:20160313T080000
END:DAYLIGHT
BEGIN:STANDARD
TZOFFSETFROM:-0500
TZOFFSETTO:-0600
TZNAME:CST
DTSTART:20161106T070000
END:STANDARD
BEGIN:DAYLIGHT
TZOFFSETFROM:-0600
TZOFFSETTO:-0500
TZNAME:CDT
DTSTART:20170312T080000
END:DAYLIGHT
BEGIN:STANDARD
TZOFFSETFROM:-0500
TZOFFSETTO:-0600
TZNAME:CST
DTSTART:20171105T070000
END:STANDARD
BEGIN:DAYLIGHT
TZOFFSETFROM:-0600
TZOFFSETTO:-0500
TZNAME:CDT
DTSTART:20180311T080000
END:DAYLIGHT
BEGIN:STANDARD
TZOFFSETFROM:-0500
TZOFFSETTO:-0600
TZNAME:CST
DTSTART:20181104T070000
END:STANDARD
BEGIN:DAYLIGHT
TZOFFSETFROM:-0600
TZOFFSETTO:-0500
TZNAME:CDT
DTSTART:20190310T080000
END:DAYLIGHT
BEGIN:STANDARD
TZOFFSETFROM:-0500
TZOFFSETTO:-0600
TZNAME:CST
DTSTART:20191103T070000
END:STANDARD
END:VTIMEZONE
BEGIN:VTIMEZONE
TZID:UTC
BEGIN:STANDARD
TZOFFSETFROM:+0000
TZOFFSETTO:+0000
TZNAME:UTC
DTSTART:20150101T000000
END:STANDARD
END:VTIMEZONE
BEGIN:VEVENT
DTSTART;VALUE=DATE:20180427
DTEND;VALUE=DATE:20180430
DTSTAMP:20260423T112054
CREATED:20171121T124138Z
LAST-MODIFIED:20171121T125939Z
UID:1276-1524787200-1525046399@jgv-rockymountain.com
SUMMARY:VJP  April 27 -29\, 2018 Malta\, Idaho
DESCRIPTION:VJP \nApril 27-29\, 2018 \nMalta\, Idaho \ninclude email with entry \n  \nTD/TC: Matt Norman \n6367 west 1600 north \nCorinne\, UT     84307 \n435-730-5295 \ncoldwatercanyondd@gmail.com
URL:http://jgv-rockymountain.com/wp/event/vjp-april-27-29-2017-malta-idaho/
LOCATION:Malta\, ID
ORGANIZER;CN="Matt Norman":MAILTO:coldwatercanyondd@gmail.com
END:VEVENT
BEGIN:VEVENT
DTSTART;VALUE=DATE:20171008
DTEND;VALUE=DATE:20171009
DTSTAMP:20260423T112054
CREATED:20170814T233226Z
LAST-MODIFIED:20170814T233226Z
UID:1273-1507420800-1507507199@jgv-rockymountain.com
SUMMARY:HZP
DESCRIPTION:Potlatch\, ID\nTest Director: Scott Sorenson\, 1221 Fiscus Rd.\, Potlatch\, ID 83855 (509) 681-0675
URL:http://jgv-rockymountain.com/wp/event/hzp-2/
ATTACH;FMTTYPE=image/jpeg:http://jgv-rockymountain.com/wp/wp-content/uploads/2016/01/membership.jpg
END:VEVENT
BEGIN:VEVENT
DTSTART;VALUE=DATE:20170916
DTEND;VALUE=DATE:20170918
DTSTAMP:20260423T112054
CREATED:20170814T233124Z
LAST-MODIFIED:20170814T233124Z
UID:1271-1505520000-1505692799@jgv-rockymountain.com
SUMMARY:VGP
DESCRIPTION:Harrold\, SD\nTest Director: Scott Sorenson\, 1221 Fiscus Rd.\, Potlatch\, ID 83855 (509) 681-0675
URL:http://jgv-rockymountain.com/wp/event/vgp/
ATTACH;FMTTYPE=image/png:http://jgv-rockymountain.com/wp/wp-content/uploads/2016/01/testing.png
END:VEVENT
BEGIN:VEVENT
DTSTART;VALUE=DATE:20170914
DTEND;VALUE=DATE:20170916
DTSTAMP:20260423T112054
CREATED:20170814T232914Z
LAST-MODIFIED:20170814T232914Z
UID:1269-1505347200-1505519999@jgv-rockymountain.com
SUMMARY:HZP
DESCRIPTION:Harrold\, SD\nTest Director: Scott Sorenson\, 1221 Fiscus Rd.\, Potlatch\, ID 83855 (509) 681-0675
URL:http://jgv-rockymountain.com/wp/event/hzp/
ATTACH;FMTTYPE=image/png:http://jgv-rockymountain.com/wp/wp-content/uploads/2016/01/annual-meeting.png
END:VEVENT
BEGIN:VEVENT
DTSTART;VALUE=DATE:20170429
DTEND;VALUE=DATE:20170430
DTSTAMP:20260423T112054
CREATED:20161205T223650Z
LAST-MODIFIED:20161206T060443Z
UID:1197-1493424000-1493510399@jgv-rockymountain.com
SUMMARY:2017 Annual Meeting
DESCRIPTION:2017 Annual Meeting \nMalta\, ID \nBusiness report\,  motions brought to the membership and Board member elections this year. \nEmail nominations to \ncoldwatercanyondd@gmail.com \nkurzhaar@adlerberg.com \njosh@beardeddog.net \nvomwasatch@hotmail.com
URL:http://jgv-rockymountain.com/wp/event/2017-annual-meeting/
ATTACH;FMTTYPE=image/jpeg:http://jgv-rockymountain.com/wp/wp-content/uploads/2016/02/2012jgvrmhzp4.jpg
END:VEVENT
BEGIN:VEVENT
DTSTART;VALUE=DATE:20170429
DTEND;VALUE=DATE:20170501
DTSTAMP:20260423T112054
CREATED:20161205T223142Z
LAST-MODIFIED:20161206T060527Z
UID:1195-1493424000-1493596799@jgv-rockymountain.com
SUMMARY:VJP in Malta\, ID
DESCRIPTION:April 29- 30\, 2017 \n  \nTest Director/ Coordinator :  Matt Norman \n6367 West 1600 North \nCorinne\, Utah  84307 \n  \nInclude email with entry \n 
URL:http://jgv-rockymountain.com/wp/event/vjp-in-malta-id/
ATTACH;FMTTYPE=image/png:http://jgv-rockymountain.com/wp/wp-content/uploads/2016/01/testing.png
END:VEVENT
BEGIN:VEVENT
DTSTART;VALUE=DATE:20170401
DTEND;VALUE=DATE:20170403
DTSTAMP:20260423T112054
CREATED:20161205T222846Z
LAST-MODIFIED:20161206T060417Z
UID:1193-1491004800-1491177599@jgv-rockymountain.com
SUMMARY:VJP in Grovespring\, MO
DESCRIPTION:April 1-2\, 2017 \nTest Director : Paul Ebisch \n608 S. Yellowwood Dr. Springfield\, MO 65809 \n                            417-353-1814\n                            Paul@Ozarkforst.com\nTest Coordinator : Jim Criger \n  \nInclude email with entry \n 
URL:http://jgv-rockymountain.com/wp/event/vjp-in-grovespring-mo/
ATTACH;FMTTYPE=image/png:http://jgv-rockymountain.com/wp/wp-content/uploads/2016/01/education.png
END:VEVENT
BEGIN:VEVENT
DTSTART;VALUE=DATE:20170318
DTEND;VALUE=DATE:20170319
DTSTAMP:20260423T112054
CREATED:20161205T224006Z
LAST-MODIFIED:20161206T060348Z
UID:1201-1489795200-1489881599@jgv-rockymountain.com
SUMMARY:VJP training Day
DESCRIPTION:VJP training day in Malta\, Id \nRSVP required to Matt Norman \n435-730-5295 \ncoldwatercanyondd@gmail.com
URL:http://jgv-rockymountain.com/wp/event/vjp-training-day-2/
CATEGORIES:Training
ATTACH;FMTTYPE=image/png:http://jgv-rockymountain.com/wp/wp-content/uploads/2016/01/annual-meeting.png
END:VEVENT
BEGIN:VEVENT
DTSTART;VALUE=DATE:20170218
DTEND;VALUE=DATE:20170219
DTSTAMP:20260423T112054
CREATED:20161205T223843Z
LAST-MODIFIED:20161206T060327Z
UID:1199-1487376000-1487462399@jgv-rockymountain.com
SUMMARY:VJP training Day
DESCRIPTION:VJP training day in Malta\, Id \nRSVP required to Matt Norman \n435-730-5295 \ncoldwatercanyondd@gmail.com
URL:http://jgv-rockymountain.com/wp/event/vjp-training-day/
CATEGORIES:Training
ATTACH;FMTTYPE=image/png:http://jgv-rockymountain.com/wp/wp-content/uploads/2016/01/testing.png
END:VEVENT
BEGIN:VEVENT
DTSTART;TZID=America/Chicago:20160924T080000
DTEND;TZID=America/Chicago:20160925T170000
DTSTAMP:20260423T112054
CREATED:20160610T063206Z
LAST-MODIFIED:20160929T184917Z
UID:1135-1474704000-1474822800@jgv-rockymountain.com
SUMMARY:Duchesne\, Ut HZP
DESCRIPTION:HZP for all FCI registered dogs \nTD / TC:  Brandon Park \n  \nPleasant View\, Utah \nFormblat 1
URL:http://jgv-rockymountain.com/wp/event/corinne-ut-hzp/
LOCATION:Duchesne\, Utah
ATTACH;FMTTYPE=image/png:http://jgv-rockymountain.com/wp/wp-content/uploads/2016/01/annual-meeting.png
ORGANIZER;CN="Matt Norman":MAILTO:coldwatercanyondd@gmail.com
END:VEVENT
BEGIN:VEVENT
DTSTART;VALUE=DATE:20160923
DTEND;VALUE=DATE:20160924
DTSTAMP:20260423T112054
CREATED:20160506T073354Z
LAST-MODIFIED:20160702T011958Z
UID:1131-1474588800-1474675199@jgv-rockymountain.com
SUMMARY:Brewster\, WA HZP
DESCRIPTION:HZP \nBrewster\, Wa \nTest Director: Roger Green \n30 Church Road \nBrewster\, WA  98812 \n  \nFormblat 1
URL:http://jgv-rockymountain.com/wp/event/brewster-wa-hzp/
LOCATION:Brewster\, WA HZP
ATTACH;FMTTYPE=image/png:http://jgv-rockymountain.com/wp/wp-content/uploads/2016/01/testing.png
END:VEVENT
BEGIN:VEVENT
DTSTART;VALUE=DATE:20160820
DTEND;VALUE=DATE:20160822
DTSTAMP:20260423T112054
CREATED:20160610T065421Z
LAST-MODIFIED:20160702T012030Z
UID:1138-1471651200-1471823999@jgv-rockymountain.com
SUMMARY:Brewster\, WA    BTR
DESCRIPTION:BTR \nAug 20 & 21 \nTD/ TC:  Roger Green \n30 Church Road \nBrewster\, WA  98812 \n  \nFormblat 1 \n  \n  \n  \n  \n 
URL:http://jgv-rockymountain.com/wp/event/brewster-wa-btr/
ATTACH;FMTTYPE=image/jpeg:http://jgv-rockymountain.com/wp/wp-content/uploads/2016/04/DSC_0401.jpg
ORGANIZER;CN="Roger Green":MAILTO:rmgreen@rogergreen.com
END:VEVENT
BEGIN:VEVENT
DTSTART;VALUE=DATE:20160618
DTEND;VALUE=DATE:20160620
DTSTAMP:20260423T112054
CREATED:20160214T205401Z
LAST-MODIFIED:20160214T205401Z
UID:1044-1466208000-1466380799@jgv-rockymountain.com
SUMMARY:Training Day
DESCRIPTION:Brewster\, WA
URL:http://jgv-rockymountain.com/wp/event/training-day-7/
LOCATION:Brewster\, WA
CATEGORIES:Training
ATTACH;FMTTYPE=image/jpeg:http://jgv-rockymountain.com/wp/wp-content/uploads/2016/02/2012jgvrmhzp4.jpg
ORGANIZER;CN="Roger Green":MAILTO:rmgreen@rogergreen.com
END:VEVENT
BEGIN:VEVENT
DTSTART;VALUE=DATE:20160514
DTEND;VALUE=DATE:20160516
DTSTAMP:20260423T112054
CREATED:20160214T205227Z
LAST-MODIFIED:20160214T205227Z
UID:1042-1463184000-1463356799@jgv-rockymountain.com
SUMMARY:Training Day
DESCRIPTION:Brewster\, WA
URL:http://jgv-rockymountain.com/wp/event/training-day-6/
LOCATION:Brewster\, WA
CATEGORIES:Training
ATTACH;FMTTYPE=image/jpeg:http://jgv-rockymountain.com/wp/wp-content/uploads/2016/02/2009692.jpg
ORGANIZER;CN="Roger Green":MAILTO:rmgreen@rogergreen.com
END:VEVENT
BEGIN:VEVENT
DTSTART;VALUE=DATE:20160429
DTEND;VALUE=DATE:20160501
DTSTAMP:20260423T112054
CREATED:20160213T043734Z
LAST-MODIFIED:20160214T172049Z
UID:1012-1461888000-1462060799@jgv-rockymountain.com
SUMMARY:VJP
DESCRIPTION:VJP \nMalta\, Idaho
URL:http://jgv-rockymountain.com/wp/event/vjp/
LOCATION:Malta\, ID
CATEGORIES:VJP
ATTACH;FMTTYPE=image/jpeg:http://jgv-rockymountain.com/wp/wp-content/uploads/2016/02/2012jgvrmhzp1.jpg
ORGANIZER;CN="Matt Norman":MAILTO:coldwatercanyondd@gmail.com
END:VEVENT
BEGIN:VEVENT
DTSTART;VALUE=DATE:20160429
DTEND;VALUE=DATE:20160430
DTSTAMP:20260423T112054
CREATED:20160214T173450Z
LAST-MODIFIED:20160214T173450Z
UID:1018-1461888000-1461974399@jgv-rockymountain.com
SUMMARY:Judges Seminar
DESCRIPTION:JGHV Judges Seminar \nMalta\, ID
URL:http://jgv-rockymountain.com/wp/event/judges-seminar/
ATTACH;FMTTYPE=image/jpeg:http://jgv-rockymountain.com/wp/wp-content/uploads/2016/02/2012jgvrmhzp8.jpg
ORGANIZER;CN="Scott Sorenson":MAILTO:kurzhaar@adlerberg.com
END:VEVENT
BEGIN:VEVENT
DTSTART;VALUE=DATE:20160429
DTEND;VALUE=DATE:20160430
DTSTAMP:20260423T112054
CREATED:20160110T124842Z
LAST-MODIFIED:20160213T043920Z
UID:897-1461888000-1461974399@jgv-rockymountain.com
SUMMARY:Annual Meeting
DESCRIPTION:RSVP by March 1st
URL:http://jgv-rockymountain.com/wp/event/test-event-1/
LOCATION:Malta\, ID
CATEGORIES:Annual Meeting
ATTACH;FMTTYPE=image/png:http://jgv-rockymountain.com/wp/wp-content/uploads/2016/01/annual-meeting.png
ORGANIZER;CN="POC Matt Norman":MAILTO:coldwatercanyondd@gmail.com
END:VEVENT
BEGIN:VEVENT
DTSTART;VALUE=DATE:20160416
DTEND;VALUE=DATE:20160418
DTSTAMP:20260423T112054
CREATED:20160214T204811Z
LAST-MODIFIED:20160214T212943Z
UID:1038-1460764800-1460937599@jgv-rockymountain.com
SUMMARY:Training Day
DESCRIPTION:Brewster\, WA
URL:http://jgv-rockymountain.com/wp/event/training-day-4/
LOCATION:Brewster\, WA
ATTACH;FMTTYPE=image/jpeg:http://jgv-rockymountain.com/wp/wp-content/uploads/2016/02/6343015.jpg
ORGANIZER;CN="Roger Green":MAILTO:rmgreen@rogergreen.com
END:VEVENT
BEGIN:VEVENT
DTSTART;VALUE=DATE:20160402
DTEND;VALUE=DATE:20160403
DTSTAMP:20260423T112054
CREATED:20160214T205102Z
LAST-MODIFIED:20160214T205102Z
UID:1040-1459555200-1459641599@jgv-rockymountain.com
SUMMARY:Training Day
DESCRIPTION:Malta\, ID
URL:http://jgv-rockymountain.com/wp/event/training-day-5/
LOCATION:Malta\, ID
ATTACH;FMTTYPE=image/jpeg:http://jgv-rockymountain.com/wp/wp-content/uploads/2016/02/9199024.jpg
ORGANIZER;CN="Matt Norman":MAILTO:coldwatercanyondd@gmail.com
END:VEVENT
BEGIN:VEVENT
DTSTART;VALUE=DATE:20160401
DTEND;VALUE=DATE:20160402
DTSTAMP:20260423T112054
CREATED:20160110T142156Z
LAST-MODIFIED:20160213T043226Z
UID:934-1459468800-1459555199@jgv-rockymountain.com
SUMMARY:VJP
DESCRIPTION:VJP \nGrovesprings\, MO \n 
URL:http://jgv-rockymountain.com/wp/event/test-event-2/
LOCATION:Grovesprings\, MO\, Grovespring\, MO\, United States
CATEGORIES:Testing,VJP
ATTACH;FMTTYPE=image/jpeg:http://jgv-rockymountain.com/wp/wp-content/uploads/2016/01/membership.jpg
ORGANIZER;CN="Paul Ebisch":MAILTO:pebisch@msn.com
END:VEVENT
BEGIN:VEVENT
DTSTART;VALUE=DATE:20160319
DTEND;VALUE=DATE:20160321
DTSTAMP:20260423T112054
CREATED:20160214T204650Z
LAST-MODIFIED:20160214T204945Z
UID:1036-1458345600-1458518399@jgv-rockymountain.com
SUMMARY:Training Day
DESCRIPTION:Brewster\, WA
URL:http://jgv-rockymountain.com/wp/event/training-day-3/
LOCATION:Brewster\, WA
CATEGORIES:Training
ATTACH;FMTTYPE=image/jpeg:http://jgv-rockymountain.com/wp/wp-content/uploads/2016/02/765397.jpg
ORGANIZER;CN="Roger Green":MAILTO:rmgreen@rogergreen.com
END:VEVENT
BEGIN:VEVENT
DTSTART;VALUE=DATE:20160305
DTEND;VALUE=DATE:20160306
DTSTAMP:20260423T112054
CREATED:20160214T204509Z
LAST-MODIFIED:20160214T204509Z
UID:1034-1457136000-1457222399@jgv-rockymountain.com
SUMMARY:Training Day
DESCRIPTION:Malta\, ID
URL:http://jgv-rockymountain.com/wp/event/training-day-2/
LOCATION:Malta\, ID
CATEGORIES:Training
ATTACH;FMTTYPE=image/jpeg:http://jgv-rockymountain.com/wp/wp-content/uploads/2016/02/3261727.jpg
ORGANIZER;CN="Matt Norman":MAILTO:coldwatercanyondd@gmail.com
END:VEVENT
BEGIN:VEVENT
DTSTART;VALUE=DATE:20160220
DTEND;VALUE=DATE:20160222
DTSTAMP:20260423T112054
CREATED:20160214T203417Z
LAST-MODIFIED:20160214T203417Z
UID:1030-1455926400-1456099199@jgv-rockymountain.com
SUMMARY:Training Day
DESCRIPTION:Brewster\, WA
URL:http://jgv-rockymountain.com/wp/event/training-day/
LOCATION:Brewster\, WA
ATTACH;FMTTYPE=image/jpeg:http://jgv-rockymountain.com/wp/wp-content/uploads/2016/02/2012jgvrmhzp3.jpg
ORGANIZER;CN="Roger Green":MAILTO:rmgreen@rogergreen.com
END:VEVENT
BEGIN:VEVENT
DTSTART;VALUE=DATE:20160120
DTEND;VALUE=DATE:20160121
DTSTAMP:20260423T112054
CREATED:20160113T015619Z
LAST-MODIFIED:20160113T015619Z
UID:957-1453248000-1453334399@jgv-rockymountain.com
SUMMARY:Education (Webinar)
DESCRIPTION:
URL:http://jgv-rockymountain.com/wp/event/education-webinar/
ATTACH;FMTTYPE=image/png:http://jgv-rockymountain.com/wp/wp-content/uploads/2016/01/education.png
ORGANIZER;CN="POC Josh Stephens":MAILTO:josh@joshstephens.com
END:VEVENT
END:VCALENDAR